BEGIN:VCALENDAR
VERSION:2.0
PRODID:-//Clickmobility - ECPv5.4.0.2//NONSGML v1.0//EN
CALSCALE:GREGORIAN
METHOD:PUBLISH
X-WR-CALNAME:Clickmobility
X-ORIGINAL-URL:https://www.clickmobility.it
X-WR-CALDESC:Eventi per Clickmobility
BEGIN:VTIMEZONE
TZID:Europe/Rome
BEGIN:DAYLIGHT
TZOFFSETFROM:+0100
TZOFFSETTO:+0200
TZNAME:CEST
DTSTART:20240331T010000
END:DAYLIGHT
BEGIN:STANDARD
TZOFFSETFROM:+0200
TZOFFSETTO:+0100
TZNAME:CET
DTSTART:20241027T010000
END:STANDARD
END:VTIMEZONE
BEGIN:VEVENT
DTSTART;TZID=Europe/Rome:20240925T080000
DTEND;TZID=Europe/Rome:20241130T170000
DTSTAMP:20260426T012733
CREATED:20240729T070504Z
LAST-MODIFIED:20240729T070504Z
UID:132312-1727251200-1732986000@www.clickmobility.it
SUMMARY:GENOVA SMART WEEK\, LA 10ª EDIZIONE  DAL 25 AL 30 NOVEMBRE
DESCRIPTION:Traguardo importante per la Genova Smart Week\, manifestazione promossa dall’Associazione Genova Smart City e dal Comune di Genova con il supporto organizzativo di Clickutility Team che celebra quest’anno la sua decima edizione e si conferma evento di riferimento a livello nazionale e internazionale sui progetti di sviluppo delle città innovative e digitali. \nL’appuntamento sarà da lunedì 25 a sabato 30 novembre con l’ormai collaudato mix tra la parte congressuale a Palazzo Tursi e la Smart City Experience di piazza De Ferrari rivolta ad un pubblico più vasto e caratterizzata da esposizioni\, test drive e giochi\, sempre ispirati ai temi della mobilità sostenibile. \nCinque i focus tematici su cui verteranno convegni\, conferenze e workshop: digitalizzazione e sviluppo delle smart city; intelligenza artificiale e cyber security; metaverso; sostenibilità\, ambiente ed energia; smart mobility. \nImprescindibile tavolo di confronto tra imprese\, poli di ricerca e istituzioni\, la Genova Smart Week 2024 ha l’ambizione di superare i numeri record della scorsa edizione\, che ha fatto registrare 10mila presenze tra convegni ed eventi di piazza\, 2.500 partecipanti in streaming\, oltre 200 speaker e 76 partner\, raggiungendo complessivamente circa 450mila utenti attraverso i propri canali di comunicazione.
URL:https://www.clickmobility.it/event/genova-smart-week-la-10a-edizione-dal-25-al-30-novembre/
ATTACH;FMTTYPE=image/jpeg:https://www.clickmobility.it/wp-content/uploads/2024/07/GSW-2024_Save-the-Date.jpg
END:VEVENT
END:VCALENDAR